BEGIN:VCALENDAR
VERSION:2.0
PRODID:-//wp-events-plugin.com//7.2.3.1//EN
TZID:Europe/Berlin
X-WR-TIMEZONE:Europe/Berlin
BEGIN:VEVENT
UID:660@hiig.de
DTSTART;TZID=Europe/Berlin:20190306T183000
DTEND;TZID=Europe/Berlin:20190306T220000
DTSTAMP:20190416T102854Z
URL:https://www.hiig.de/en/events/eva-illouz-capitalist-subjectivity-and-t
 he-internet/
SUMMARY:Eva Illouz: Capitalist subjectivity and the internet
DESCRIPTION:In her lecture\, Eva Illouz takes a closer look at the dating a
 pp Tinder. In regards to how people interact with the app\, she will addre
 ss the notion of scopic capitalism\, a form of exploitation of the (woman'
 s) body that is based on the gaze. The circulation of images on Tinder res
 onates with the cultural transformation of women's bodies in the cultural 
 industries throughout the 20th century. The lecture examines the formal fe
 atures of the app – how they create cultural pathways for sexual encount
 ers – and the real consequences on the emotional world of users. More ge
 nerally\, what does it mean to attempt to form emotions through the virtua
 l world? Does this change love and romance and affect emotions in general?
  How are people engaging emotionally online? Is digital technology changin
 g the way we experience relationships?\n\n[photospace ids="57344\,57346\,5
 7355\,57349\,57351\,57353\,57357"]\nEva Illouz: Capitalist subjectivity an
 d the internet\n6 March 2019 | 7 pm | doors open 6.30 pm\nHAU Hebbel am Uf
 er (HAU 1) | Stresemannstraße 29 | 10963 Berlin\n&nbsp\;\n\nEva Illouz 
 is Professor of Sociology at the The Hebrew University of Jerusalem and Di
 rectrice of Studies at the Centre européen de sociologie et de science po
 litique\, CSE-EHESS in Paris. Her research and teaching focus on emotions\
 , capitalism\, culture and communication\, in particular cultural aspects 
 at the intersection of emotion and communication.\n\n&nbsp\;\nAgenda\n\n\n
 \n18:30\n  Doors open\n\n\n19:00 – 19:15\n  Welcome and introduction\n
 \n\n19:15 – 20:00\n  Capitalist subjectivity and the internet\n  Eva I
 llouz (The Hebrew University of Jerusalem)\n\n\n20:00 – 21:00\n  Modera
 ted discussion and questions from the audience\n\n\n21:00 – 22:00\n  Ge
 t-together\n\n\n\n&nbsp\;\n\nThe event will be held in English and simulta
 neously translated into German.\n\nFor press accreditation\, please contac
 t Florian Lüdtke.\n\nBy signing up you consent to be photographed\, filme
 d and/or otherwise recorded during the event and to the use of the content
  in connection with the promotion and public relations of the event.\n\n&n
 bsp\;\nMaking Sense of the Digital Society\n\n\n\nAlexander von Humboldt I
 nstitute for Internet and Society (HIIG) and the German Federal Agency for
  Civic Education/bpb are organising an academic lecture series on Making 
 Sense of the Digital Society. The current rapid technological change crea
 tes enormous uncertainties. Overarching explanations are needed to better 
 understand this change and shape a common future. The lecture series aims
  to develop a critical perspective on the current transformation process a
 nd to enter into dialogue with visionary thinkers about the digital future
  of society.\nDirk Baecker is going to be the next speaker of the series. 
 He will be followed by José van Dijck and Louise Amoore.\n&nbsp\;\nUnf
 ortunately the event is already fully booked. However\, you can register f
 or the waiting list using the form below. Unfortunately there will be no 
 livestream or recording of the event. Please excuse any inconveniences due
  to the cancellation. \nRegistration\n\n\n
ATTACH;FMTTYPE=image/jpeg:https://www.hiig.de/wp-content/uploads/2019/01/R
 edenreihe_FR1_2018_1-51.png
CATEGORIES:Making sense of the digital society
LOCATION:HAU Hebbel am Ufer (HAU 1)\, Stresemannstraße 29\, Berlin\, 10963
 \, Germany
X-APPLE-STRUCTURED-LOCATION;VALUE=URI;X-ADDRESS=Stresemannstraße 29\, Berl
 in\, 10963\, Germany;X-APPLE-RADIUS=100;X-TITLE=HAU Hebbel am Ufer (HAU 1)
 :geo:0,0
END:VEVENT
BEGIN:VTIMEZONE
TZID:Europe/Berlin
X-LIC-LOCATION:Europe/Berlin
BEGIN:STANDARD
DTSTART:20181028T020000
TZOFFSETFROM:+0200
TZOFFSETTO:+0100
TZNAME:CET
END:STANDARD
END:VTIMEZONE
END:VCALENDAR