BEGIN:VCALENDAR
VERSION:2.0
PRODID:-//wp-events-plugin.com//7.2.3.1//EN
TZID:Europe/Berlin
X-WR-TIMEZONE:Europe/Berlin
BEGIN:VEVENT
UID:920@hiig.de
DTSTART;TZID=Europe/Berlin:20210901T160000
DTEND;TZID=Europe/Berlin:20210901T190000
DTSTAMP:20210830T142336Z
URL:https://www.hiig.de/en/events/edit-a-thon-intersectional-ai-toolkit/
SUMMARY:EDIT-A-THON Intersectional AI Toolkit
DESCRIPTION:A co-creation workshop on intersectional approaches to AI\, org
 anized in cooperation with our partners from Motif\, netzforma* and SUPERR
 R.
ATTACH;FMTTYPE=image/jpeg:https://www.hiig.de/wp-content/uploads/2021/07/s
 imon-launay-GVIboZwPuJE-unsplash.jpg
LOCATION:Humboldt Institute for Internet and Society\, Französische Straß
 e 9\, Berlin\, 10117\, Germany
X-APPLE-STRUCTURED-LOCATION;VALUE=URI;X-ADDRESS=Französische Straße 9\, B
 erlin\, 10117\, Germany;X-APPLE-RADIUS=100;X-TITLE=Humboldt Institute for 
 Internet and Society:geo:0,0
END:VEVENT
BEGIN:VTIMEZONE
TZID:Europe/Berlin
X-LIC-LOCATION:Europe/Berlin
BEGIN:DAYLIGHT
DTSTART:20210328T030000
TZOFFSETFROM:+0100
TZOFFSETTO:+0200
TZNAME:CEST
END:DAYLIGHT
END:VTIMEZONE
END:VCALENDAR