BEGIN:VCALENDAR
VERSION:2.0
PRODID:-//wp-events-plugin.com//7.2.3.1//EN
TZID:Europe/Berlin
X-WR-TIMEZONE:Europe/Berlin
BEGIN:VEVENT
UID:424@hiig.de
DTSTART;TZID=Europe/Berlin:20170713T100000
DTEND;TZID=Europe/Berlin:20170713T170000
DTSTAMP:20170609T093754Z
URL:https://www.hiig.de/en/events/disrupted/
SUMMARY:DISRUPTED! at TOA
DESCRIPTION:How are global data streems entangled into and shaped by the lo
 cal political and economic contexts? What aspects of digitization become v
 isible regarding the Internet from the infrastructural perspective? Why is
  the infrastructural approach interesting for social science research?
CATEGORIES:Issues in Focus
LOCATION:Funkhaus Berlin\, Nalepastraße 18\, Berlin\, Germany
X-APPLE-STRUCTURED-LOCATION;VALUE=URI;X-ADDRESS=Nalepastraße 18\, Berlin\,
  Germany;X-APPLE-RADIUS=100;X-TITLE=Funkhaus Berlin:geo:0,0
END:VEVENT
BEGIN:VTIMEZONE
TZID:Europe/Berlin
X-LIC-LOCATION:Europe/Berlin
BEGIN:DAYLIGHT
DTSTART:20170326T030000
TZOFFSETFROM:+0100
TZOFFSETTO:+0200
TZNAME:CEST
END:DAYLIGHT
END:VTIMEZONE
END:VCALENDAR