BEGIN:VCALENDAR
VERSION:2.0
PRODID:-//wp-events-plugin.com//7.2.3.1//EN
TZID:Europe/Berlin
X-WR-TIMEZONE:Europe/Berlin
BEGIN:VEVENT
UID:137@hiig.de
DTSTART;TZID=Europe/Berlin:20140827T190000
DTEND;TZID=Europe/Berlin:20140827T203000
DTSTAMP:20180917T102048Z
URL:https://www.hiig.de/en/events/digitaler-salon-wifi-hotspot-serengeti-e
 ntwicklungshilfe-mittels-internet-2/
SUMMARY:Digitaler Salon: WiFi Hotspot Serengeti. Entwicklungshilfe mittels 
 Internet? | Talk
DESCRIPTION:Once a month we publicly discuss the impact of digitalisation o
 n the society. Therefore we invite special guests\, engage in a dialogue w
 ith the audience and the Twitter-community and finally broadcast it in coo
 peration with the German broadcasting agency DRadio Wissen. The upcoming #
 DigSal deals with development aid via Internet. "WiFi Hotspot Serengeti. E
 ntwicklungshilfe mittels Internet?” is the question that will occupy us 
 on 27 August.\nPlease note\, that the event will be held in German – bel
 ow you can find more detailed information.\n\nKann ein 99-Dollar-Laptop de
 n Hunger von Nationen stillen? Ist flächendeckendes Internet wichtiger al
 s eine gut funktionierende Wasserversorgung? Die nächsten fünf Milliard
 en Menschen auf dem Weg ins Internet – Chancengleichheit oder neues Wir
 tschaftsgut?\n\nKatja Weber von DRadio Wissen spricht am 27.08.14 mit:\n\n
  	Joshua Kwesi Aikins\, Wissenschaftliche Leitung Ghanavotecompass\n 	Davi
 d Deißner\, Projektleiter Bildungsforschung Vodafone Stiftung Deutschland
 \n 	Melanie Stilz\, Geschäftsführerin Konnektiv Büro für Bildung und E
 ntwicklung\n 	Victoria Wenzelmann\, Organisatorin AfricaHackTrip\n\nEine E
 inführung in die Thematik gibt Simon Rinas\, assoziierter Forscher am HII
 G.\n\nEinmal monatlich zum Digitalen Salon stellen sich unsere Gäste den 
 ‚Fragen zur vernetzten Gegenwart‘. In unserer Diskussionsreihe beleuch
 ten wir Netz-Phänomene\, erörtern Vor- und Nachteile technischer Veränd
 erungen und geben Denkanstöße. Kommunizieren auch Sie Ihre Meinung vor\,
  während und nach der Sendung direkt auf unserer Webseite\, über Social 
 Media oder per Postkarte. Der Digitale Salon ist eine Kooperation zwischen
  DRadio Wissen und dem Humboldt Institut für Internet und Gesellschaft.\n
 \n\n\n PDF ansehen\nSave the Date: WiFi Hotspot Serengeti. Entwicklungshi
 lfe mittels Internet?\n\n\n\nAm letzten Mittwoch des Monats um 19:00 Uhr.\
 nAnalog: In den Räumen des HIIG • Bebelplatz 1 • mit Wein &amp\; Brez
 eln • Einlass ab 18:30 Uhr\nDigital: #DigSal • Livestream via www.drad
 iowissen.de und www.hiig.de\nRadio: Immer am dritten Sonntag des Monats a
 b 18:05 Uhr im Hörsaal auf Dradio Wissen.
ATTACH;FMTTYPE=image/jpeg:https://www.hiig.de/wp-content/uploads/2012/08/d
 igsal1.jpg
CATEGORIES:Talk series: Digitaler Salon
LOCATION:Former office of the HIIG | Room E27\, Bebelplatz 1\, Berlin\, 101
 17\, Germany
X-APPLE-STRUCTURED-LOCATION;VALUE=URI;X-ADDRESS=Bebelplatz 1\, Berlin\, 101
 17\, Germany;X-APPLE-RADIUS=100;X-TITLE=Former office of the HIIG | Room E
 27:geo:0,0
END:VEVENT
BEGIN:VTIMEZONE
TZID:Europe/Berlin
X-LIC-LOCATION:Europe/Berlin
BEGIN:DAYLIGHT
DTSTART:20140330T030000
TZOFFSETFROM:+0100
TZOFFSETTO:+0200
TZNAME:CEST
END:DAYLIGHT
END:VTIMEZONE
END:VCALENDAR