BEGIN:VCALENDAR
VERSION:2.0
PRODID:-//wp-events-plugin.com//7.2.3.1//EN
TZID:Europe/Berlin
X-WR-TIMEZONE:Europe/Berlin
BEGIN:VEVENT
UID:412@hiig.de
DTSTART;TZID=Europe/Berlin:20180530T190000
DTEND;TZID=Europe/Berlin:20180530T203000
DTSTAMP:20180906T092716Z
URL:https://www.hiig.de/en/events/digitaler-salon-mistgabel-4-0/
SUMMARY:Digitaler Salon: Mistgabel 4.0 | Talk
DESCRIPTION:Mistgabel 4.0 – agricultural drones\, automated farms and sma
 rt breeding. How can digitisation make food production more sustainable fo
 r both humans and animals? A fuss about nothing or a second green revoluti
 on?
ATTACH;FMTTYPE=image/jpeg:https://www.hiig.de/wp-content/uploads/2017/03/M
 istgabel_16x9.png
CATEGORIES:Sustainability,Talk series: Digitaler Salon
LOCATION:Humboldt Institute for Internet and Society\, Französische Straß
 e 9\, Berlin\, 10117\, Germany
X-APPLE-STRUCTURED-LOCATION;VALUE=URI;X-ADDRESS=Französische Straße 9\, B
 erlin\, 10117\, Germany;X-APPLE-RADIUS=100;X-TITLE=Humboldt Institute for 
 Internet and Society:geo:0,0
END:VEVENT
BEGIN:VTIMEZONE
TZID:Europe/Berlin
X-LIC-LOCATION:Europe/Berlin
BEGIN:DAYLIGHT
DTSTART:20180325T030000
TZOFFSETFROM:+0100
TZOFFSETTO:+0200
TZNAME:CEST
END:DAYLIGHT
END:VTIMEZONE
END:VCALENDAR