BEGIN:VCALENDAR
VERSION:2.0
PRODID:-//wp-events-plugin.com//7.2.3.1//EN
TZID:Europe/Berlin
X-WR-TIMEZONE:Europe/Berlin
BEGIN:VEVENT
UID:222@hiig.de
DTSTART;TZID=Europe/Berlin:20150624T190000
DTEND;TZID=Europe/Berlin:20150624T203000
DTSTAMP:20180906T092438Z
URL:https://www.hiig.de/en/events/digitaler-salon-level-up-2/
SUMMARY:Digitaler Salon: Level Up! | Talk
DESCRIPTION:[caption id="attachment_22401" align="alignnone" width="800"] C
 C BY 2.0 Tom Newby[/caption]\n\nOnce a month we publicly discuss the impac
 t of digitalisation on the society. Therefore we invite special guests\, e
 ngage in a dialogue with the audience and the Twitter-community and finall
 y broadcast it in cooperation with the German broadcasting agency DRadio W
 issen. The upcoming #DigSal discusses the impact of serious games on educa
 tion\, health and society. Below you can find more detailed information.\n
 \nMit den Schlagworten Gamification und Serious Games versprechen neue Anw
 endungen eine spielerische Steigerung unserer Gesundheit\, Bildung und Lei
 stung. Im Digitalen Salon haben wir versucht uns diesen Begriffen zu näh
 ern und fragten\, welche Chancen sich ergeben und zu welchen Kosten wir ne
 ue Level erreichen. Passend zum Thema trafen wir uns diesmal im Computers
 pielemuseum Berlin. Selbstverständlich konnten die Besucher vor und nach
  der Diskussion auch die Ausstellung besuchen.\n\n\nLevel Up!\n24. Juni 20
 15 | 19.00 Uhr\nComputerspielemuseum Berlin | Karl-Marx-Allee 93a | Berl
 in\nKatja Weber von DRadio Wissen sprach am 24. Juni mit:\n\n 	Susanne 
 Brandhorst\, Professorin für Game Design\, HTW Berlin\n 	Michael Liebe\, 
 Games Week Berlin\n 	Patrick Rau\, Spieleentwickler und Geschäftsführer 
 von kunst-stoff\n 	Lies van Roessel\, HIIG\n\n[photospace ids="23818\,2381
 9\,23820\,23821\,23822\,23823\,23824\,23825\,23826\,23827\,23828\,23829"]\
 n\n\nDer Digitale Salon öffnet ab 18:30 Uhr seine Türen. Ab 19:00 Uhr wi
 rd die Sendung live auf hiig.de übertragen. Dann heißt es mitmachen – 
 vor Ort und per Twitter via #DigSal.\n\nDer Digitale Salon findet jeden le
 tzten Mittwoch im Monat unter einer anderen Fragestellung statt. Aufzeichn
 ungen vergangener Digitaler Salons und mehr Informationen finden Sie unter
  www.hiig.de/DigSal. \n\n
CATEGORIES:Talk series: Digitaler Salon
LOCATION:Computerspielemuseum Berlin\, Karl-Marx-Allee 93a\, Berlin\, 10243
 \, Germany
X-APPLE-STRUCTURED-LOCATION;VALUE=URI;X-ADDRESS=Karl-Marx-Allee 93a\, Berli
 n\, 10243\, Germany;X-APPLE-RADIUS=100;X-TITLE=Computerspielemuseum Berlin
 :geo:0,0
END:VEVENT
BEGIN:VTIMEZONE
TZID:Europe/Berlin
X-LIC-LOCATION:Europe/Berlin
BEGIN:DAYLIGHT
DTSTART:20150329T030000
TZOFFSETFROM:+0100
TZOFFSETTO:+0200
TZNAME:CEST
END:DAYLIGHT
END:VTIMEZONE
END:VCALENDAR