BEGIN:VCALENDAR
VERSION:2.0
PRODID:-//wp-events-plugin.com//7.2.3.1//EN
TZID:Europe/Berlin
X-WR-TIMEZONE:Europe/Berlin
BEGIN:VEVENT
UID:178@hiig.de
DTSTART;TZID=Europe/Berlin:20141029T190000
DTEND;TZID=Europe/Berlin:20141029T203000
DTSTAMP:20180906T080230Z
URL:https://www.hiig.de/en/events/digitaler-salon-krisenberichterstattung-
 in-sozialen-netzwerken-eine-chance-fur-unabhangigen-journalismus-oder-unge
 bremste-stimmungsmache/
SUMMARY:Digitaler Salon: Krisenberichterstattung in sozialen Netzwerken | T
 alk
DESCRIPTION:Once a month we publicly discuss the impact of digitalisation o
 n the society. Therefore we invite special guests\, engage in a dialogue w
 ith the audience and the Twitter-community and finally broadcast it in coo
 peration with the German broadcasting agency DRadio Wissen. The upcoming #
 DigSal deals with reporting on crises via Social Media. Please note\, that
  the event will be held in German – below you can find more detailed inf
 ormation.\n\nKRISENBERICHTERSTATTUNG IN SOZIALEN NETZWERKEN\nIst Krisenber
 ichterstattung via Social Media eine Chance für unabhängigen Journalismu
 s oder ungebremste Stimmungsmache? Auf Twitter und Youtube erreichen uns A
 ugenzeugenberichte aus den Krisenregionen dieser Welt. Verschaffen uns die
 se ein objektiveres Bild über die dortige Situation oder öffnen sie Tür
  und Tor für gezielte Falschmeldungen?\n\n\n\nKatja Weber von DRadio Wiss
 en spricht am 29.10.14 mit:\n\n 	Johanna Roering\, Medienwissenschaftlerin
 \n 	Thomas Wiegold (@thomas_wiegold)\, Journalist\, Schwerpunkt internatio
 nale Verteidigungs- und Sicherheitspolitik\, Blogger (augengeradeaus.net)\
 n 	Christoph Sydow (@alsharq)\, Nahost-Journalist\, Redakteur bei SPIEGEL 
 ONLINE\, Blogger (Alsharq)\n\nEine Einführung in das Thema gibt Kirsten G
 ollatz\, Forscherin im Projekt Meinungsfreiheit in Quasi-öffentlichen Rä
 umen.\n\n[photospace ids="20105\,20106\,20107\,20108\,20109\,20110\,20111\
 ,20112\,20113\,20114\,20115"]\n\nEinmal monatlich zum Digitalen Salon stel
 len sich unsere Gäste den ‚Fragen zur vernetzten Gegenwart‘. In unser
 er Diskussionsreihe beleuchten wir Netz-Phänomene\, erörtern Vor- und Na
 chteile technischer Veränderungen und geben Denkanstöße. Kommunizieren 
 auch Sie Ihre Meinung vor\, während und nach der Sendung direkt auf unser
 er Webseite\, über Social Media oder per Postkarte. Der Digitale Salon is
 t eine Kooperation zwischen DRadio Wissen und dem Humboldt Institut für I
 nternet und Gesellschaft.\n\nAm letzten Mittwoch des Monats um 19:00 Uhr.\
 nAnalog: In den Räumen des HIIG • Bebelplatz 1 • mit Wein &amp\; Brez
 eln • Einlass ab 18:30 Uhr\nDigital: #DigSal • Livestream via www.drad
 iowissen.de und www.hiig.de\nRadio: Immer am dritten Sonntag des Monats ab
  18:05 Uhr im Hörsaal auf Dradio Wissen.
CATEGORIES:Talk series: Digitaler Salon
LOCATION:Former office of the HIIG | Room E27\, Bebelplatz 1\, Berlin\, 101
 17\, Germany
X-APPLE-STRUCTURED-LOCATION;VALUE=URI;X-ADDRESS=Bebelplatz 1\, Berlin\, 101
 17\, Germany;X-APPLE-RADIUS=100;X-TITLE=Former office of the HIIG | Room E
 27:geo:0,0
END:VEVENT
BEGIN:VTIMEZONE
TZID:Europe/Berlin
X-LIC-LOCATION:Europe/Berlin
BEGIN:STANDARD
DTSTART:20141026T020000
TZOFFSETFROM:+0200
TZOFFSETTO:+0100
TZNAME:CET
END:STANDARD
END:VTIMEZONE
END:VCALENDAR