BEGIN:VCALENDAR
VERSION:2.0
PRODID:-//wp-events-plugin.com//7.2.3.1//EN
TZID:Europe/Berlin
X-WR-TIMEZONE:Europe/Berlin
BEGIN:VEVENT
UID:614@hiig.de
DTSTART;TZID=Europe/Berlin:20180926T190000
DTEND;TZID=Europe/Berlin:20180926T203000
DTSTAMP:20181009T085528Z
URL:https://www.hiig.de/en/events/digitaler-salon-gewissensbytes/
SUMMARY:Digitaler Salon Special: Gewissensbytes
DESCRIPTION:Once a month\, we publicly discuss the impact of digitalization
  on society at Digitaler Salon. We invite special guests\, engage in a dia
 logue with the audience and the Twitter community and broadcast it on YouT
 ube. The subject of the #DigSal in September was ethics and information te
 chnology: There is still no algorithm for ethics. How much power do compu
 ter scientists have and how can the ethical guidelines be reconciled with 
 computer science practice? Below you will find more detailed information i
 n German.\n\n&nbsp\;\n\nGewissensbytes – Für Ethik gibt es noch keinen
  Algorithmus. Wie viel Macht haben InformatikerInnen und wie können die e
 thischen Leitlinien mit der informatischen Praxis in Einklang gebracht wer
 den?\n\n\n\nAlgorithmen verstecken sich in fast allen Bereichen unseres Le
 bens. Sie bestimmen\, wessen Instagram-Posts wir sehen\, wie unsere Kredit
 würdigkeit eingestuft wird oder welche Route das selbstfahrende Auto nehm
 en wird. Kurz gesagt: Algorithmen bestimmen die Regeln der digitalen Gesel
 lschaft – und mit großer Macht kommt große Verantwortung. Können Algo
 rithmen überhaupt neutral sein? Was ist die Rolle der InformatikerInnen? 
 Diskriminiert eine Software bestimmte Gruppen\, wird Überwachung dadurch 
 einfacher und was sind die langfristigen Auswirkungen – oft werden Infor
 matikerInnen mit ethischen Problemen allein gelassen. Wie können ethische
  Leitlinien mit der informatischen Praxis in Einklang gebracht werden? Ver
 hindert zu viel Regulierung im Informationszeitalter echte Innovation – 
 oder ist sie der einzig effektive Schutz für Menschenrechte?\nDigitaler S
 alon Spezial – Gewissensbytes\n26.09.2018 | 19.00 Uhr | Fraunhofer Forum
  im Spreepalais am Dom\nSaal Spektrum | Anna-Louisa-Karsch-Str. 2 | 10178 
 Berlin\n[photospace ids="53114\,53120\,53116\,53122\,53118\,53124"]\n\nIm 
 Rahmen der INFORMATIK 2018 diskutierte die Moderatorin Katja Weber mit:\n
 \n 	Lorena Jaume-Palasí\, Mitgründerin und Geschäftsführerin\, Algorit
 hmWatch\n 	Fiona Krakenbürger\, Techniksoziologin mit Genderfokus\, Heart
  of Code\n 	Stefan Ullrich\, kritischer Informatiker und Philosoph\, Gesel
 lschaft für Informatik\n\nDie Einführung in das Thema übernahm Theresa
  Züger\, assoziierte Forscherin im Projekt „Die Entwicklung der digital
 en Gesellschaft“ am HIIG.\n\nDer Digitale Salon öffnet ab 18:30 Uhr sei
 ne Türen. Ab 19:00 Uhr wird die Sendung live auf hiig.de übertragen. Dan
 n heißt es mitmachen – vor Ort und per Twitter via #DigSal. Der Digital
 e Salon findet jeden letzten Mittwoch im Monat unter einer anderen Fragest
 ellung statt. Aufzeichnungen vergangener Digitaler Salons und mehr Informa
 tionen finden Sie hier.\n\nFür den Digitalen Salon ist keine Registrierun
 g erforderlich. Dieses Mal fand der Digitale Salon ausnahmsweise im Spre
 epalais zur INFORMATIK 2018 statt.\n\n
ATTACH;FMTTYPE=image/jpeg:https://www.hiig.de/wp-content/uploads/2018/08/g
 ewissensbytes_final_16x9.png
CATEGORIES:Talk series: Digitaler Salon
LOCATION:Spreepalais am Dom - Saal Spektrum\, Anna-Louisa-Karsch-Str. 2\, B
 erlin\, 10178\, Berlin\, Germany
X-APPLE-STRUCTURED-LOCATION;VALUE=URI;X-ADDRESS=Anna-Louisa-Karsch-Str. 2\,
  Berlin\, 10178\, Berlin\, Germany;X-APPLE-RADIUS=100;X-TITLE=Spreepalais 
 am Dom - Saal Spektrum:geo:0,0
END:VEVENT
BEGIN:VTIMEZONE
TZID:Europe/Berlin
X-LIC-LOCATION:Europe/Berlin
BEGIN:DAYLIGHT
DTSTART:20180325T030000
TZOFFSETFROM:+0100
TZOFFSETTO:+0200
TZNAME:CEST
END:DAYLIGHT
END:VTIMEZONE
END:VCALENDAR