BEGIN:VCALENDAR
VERSION:2.0
PRODID:-//wp-events-plugin.com//7.2.3.1//EN
TZID:Europe/Berlin
X-WR-TIMEZONE:Europe/Berlin
BEGIN:VEVENT
UID:331@hiig.de
DTSTART;TZID=Europe/Berlin:20160629T190000
DTEND;TZID=Europe/Berlin:20160629T203000
DTSTAMP:20180523T205744Z
URL:https://www.hiig.de/en/events/digitaler-salon-forever-punk/
SUMMARY:Digitaler Salon: Forever Punk!
DESCRIPTION:Once a month we publicly discuss the impact of digitalisation o
 n the society. Therefore we invite special guests\, engage in a dialogue w
 ith the audience and the Twitter-community and finally broadcast it in coo
 peration with the German broadcasting agency DRadio Wissen. The upcoming #
 DigSal discusses new ways to connect data and use more tools through wh
 ich we can represent and experience the past differently – in a digital
  age. Below you can find more detailed information in German. This month w
 e discuss how the youth sees itself and its role in the internet. For ever
  Punk!?   \n\n\n\nFür immer Punk! Szenebewegung oder nostalgischer Glau
 be? Wie sieht sich die Jugend in Zeiten des Netzes?\n\nAlles Spießer? Gib
 t es denn heute gar keine richtigen Rebellen mehr? Schaut man auf die Klic
 kzahlen von beliebten YouTube-Kanälen könnte man glauben\, die Jugend tr
 eibe sich wo anders gar nicht mehr rum. Sind Teenie-Stars auf Youtube also
  beliebter geworden als Rockidolen live on stage? Schon vor einigen Jahren
  war das TV-Programm von vorgestern und ein Leben ohne Smartphone für die
  jüngere Generation nicht mehr wegzudenken. Doch hat sich YouTube weitere
 ntwickelt und entdecken junge Menschen auch dessen politische Seite? Wir w
 ollen die Jugend in Zeiten des Netzes zu Wort kommen lassen und fragen: Wo
  sind die Punks im Netz zwischen Bibi\, LeFloid und Datteltätern?\nDIGITA
 LER SALON | Für immer Punk!\n29.06.2016 | 19.00 Uhr | HIIG | Französisc
 he Straße 9 | 10117 Berlin\nKatja Weber von DRadio Wissen diskutiert mit\
 n\n	Schorsch Kamerun\, Punk\, Sänger &amp\; Autor\n	Gabriele Rohmann\, L
 eiterin des Archiv der Jugendkulturen e.V.\n	Tarik Tesfu\, Video-Blogger\
 , Tariks Genderkrise\n	Charly\, ist 15\, zockt gerne\, mag Einhörner und
  ist im Beirat der Tincon.\n\n\n[photospace ids="28840\,28841\,28843\,288
 44\,28845\,28847\,28848\,28849\,28850\,28851\,28852\,28853\,28854\,28855\,
 28856\,28857\,28858"]\n\nDer Digitale Salon öffnet ab 18:30 Uhr seine Tü
 ren. Ab 19:00 Uhr wird die Sendung live auf hiig.de übertragen. Dann he
 ißt es mitmachen – vor Ort und per Twitter via #DigSal. Der Digitale S
 alon findet jeden letzten Mittwoch im Monat unter einer anderen Fragestell
 ung statt. Aufzeichnungen vergangener Digitaler Salons und mehr Informatio
 nen finden Sie unter www.hiig.de/DigSal.\n\nTweets about #DigSal\n\n
ATTACH;FMTTYPE=image/jpeg:https://www.hiig.de/wp-content/uploads/2016/04/p
 unk1_banner_klaviyo.png
CATEGORIES:Talk series: Digitaler Salon
LOCATION:Humboldt Institute for Internet and Society\, Französische Straß
 e 9\, Berlin\, 10117\, Germany
X-APPLE-STRUCTURED-LOCATION;VALUE=URI;X-ADDRESS=Französische Straße 9\, B
 erlin\, 10117\, Germany;X-APPLE-RADIUS=100;X-TITLE=Humboldt Institute for 
 Internet and Society:geo:0,0
END:VEVENT
BEGIN:VTIMEZONE
TZID:Europe/Berlin
X-LIC-LOCATION:Europe/Berlin
BEGIN:DAYLIGHT
DTSTART:20160327T030000
TZOFFSETFROM:+0100
TZOFFSETTO:+0200
TZNAME:CEST
END:DAYLIGHT
END:VTIMEZONE
END:VCALENDAR