BEGIN:VCALENDAR
VERSION:2.0
PRODID:-//wp-events-plugin.com//7.2.3.1//EN
TZID:Europe/Berlin
X-WR-TIMEZONE:Europe/Berlin
BEGIN:VEVENT
UID:952@hiig.de
DTSTART;TZID=Europe/Berlin:20211124T183000
DTEND;TZID=Europe/Berlin:20211124T200000
DTSTAMP:20211216T160738Z
URL:https://www.hiig.de/en/events/digitaler-salon-digital-society-nerds-on
 ly/
SUMMARY:Digitaler Salon: Digital Society - Nerds Only?
DESCRIPTION:Where do we stand when it comes to the digitalisation of the he
 alth system? 
ATTACH;FMTTYPE=image/jpeg:https://www.hiig.de/wp-content/uploads/2021/11/W
 ebsite_Banner_DigSal_11_2021_800-450-–-1.png
CATEGORIES:Everyday Life,Knowledge,Talk series: Digitaler Salon
LOCATION:Humboldt Institute for Internet and Society\, Französische Straß
 e 9\, Berlin\, 10117\, Germany
X-APPLE-STRUCTURED-LOCATION;VALUE=URI;X-ADDRESS=Französische Straße 9\, B
 erlin\, 10117\, Germany;X-APPLE-RADIUS=100;X-TITLE=Humboldt Institute for 
 Internet and Society:geo:0,0
END:VEVENT
BEGIN:VTIMEZONE
TZID:Europe/Berlin
X-LIC-LOCATION:Europe/Berlin
BEGIN:STANDARD
DTSTART:20211031T020000
TZOFFSETFROM:+0200
TZOFFSETTO:+0100
TZNAME:CET
END:STANDARD
END:VTIMEZONE
END:VCALENDAR