BEGIN:VCALENDAR
VERSION:2.0
PRODID:-//wp-events-plugin.com//7.2.3.1//EN
TZID:Europe/Berlin
X-WR-TIMEZONE:Europe/Berlin
BEGIN:VEVENT
UID:511@hiig.de
DTSTART;TZID=Europe/Berlin:20180328T190000
DTEND;TZID=Europe/Berlin:20180328T203000
DTSTAMP:20191118T095133Z
URL:https://www.hiig.de/en/events/digitaler-salon-catch-me-if-you-scan/
SUMMARY:Digitaler Salon: Catch me if you scan | Talk
DESCRIPTION:Preventing crimes before they were committed: Could algorithms 
 and big data possibly lower the level of crime\, and what price are we wil
 ling to pay for security? On 28 March 2018 from 7 pm at HIIG. Digitaler Sa
 lon is taking place every last Wednesday of the month.
ATTACH;FMTTYPE=image/jpeg:https://www.hiig.de/wp-content/uploads/2018/01/c
 atch.png
CATEGORIES:Talk series: Digitaler Salon
LOCATION:Humboldt Institute for Internet and Society\, Französische Straß
 e 9\, Berlin\, 10117\, Germany
X-APPLE-STRUCTURED-LOCATION;VALUE=URI;X-ADDRESS=Französische Straße 9\, B
 erlin\, 10117\, Germany;X-APPLE-RADIUS=100;X-TITLE=Humboldt Institute for 
 Internet and Society:geo:0,0
END:VEVENT
BEGIN:VTIMEZONE
TZID:Europe/Berlin
X-LIC-LOCATION:Europe/Berlin
BEGIN:DAYLIGHT
DTSTART:20180325T030000
TZOFFSETFROM:+0100
TZOFFSETTO:+0200
TZNAME:CEST
END:DAYLIGHT
END:VTIMEZONE
END:VCALENDAR