BEGIN:VCALENDAR
VERSION:2.0
PRODID:-//wp-events-plugin.com//7.2.3.1//EN
TZID:Europe/Berlin
X-WR-TIMEZONE:Europe/Berlin
BEGIN:VEVENT
UID:1153@hiig.de
DTSTART;TZID=Europe/Berlin:20230830T190000
DTEND;TZID=Europe/Berlin:20230830T200000
DTSTAMP:20230830T103647Z
URL:https://www.hiig.de/en/events/digitaler-salon-blindstelle-medizin/
SUMMARY:Digitaler Salon: Invisible Patient
DESCRIPTION:How big is the 'gender data gap' in medicine really and how can
  we combat discrimination in medical datasets?
ATTACH;FMTTYPE=image/jpeg:https://www.hiig.de/wp-content/uploads/2023/07/W
 ebsite-DigSal-August-–-6.png
CATEGORIES:Everyday Life,Talk series: Digitaler Salon
LOCATION:Humboldt Institute for Internet and Society\, Französische Straß
 e 9\, Berlin\, 10117\, Germany
X-APPLE-STRUCTURED-LOCATION;VALUE=URI;X-ADDRESS=Französische Straße 9\, B
 erlin\, 10117\, Germany;X-APPLE-RADIUS=100;X-TITLE=Humboldt Institute for 
 Internet and Society:geo:0,0
END:VEVENT
BEGIN:VTIMEZONE
TZID:Europe/Berlin
X-LIC-LOCATION:Europe/Berlin
BEGIN:DAYLIGHT
DTSTART:20230326T030000
TZOFFSETFROM:+0100
TZOFFSETTO:+0200
TZNAME:CEST
END:DAYLIGHT
END:VTIMEZONE
END:VCALENDAR