BEGIN:VCALENDAR
VERSION:2.0
PRODID:-//wp-events-plugin.com//7.2.3.1//EN
TZID:Europe/Berlin
X-WR-TIMEZONE:Europe/Berlin
BEGIN:VEVENT
UID:503@hiig.de
DTSTART;TZID=Europe/Berlin:20180131T190000
DTEND;TZID=Europe/Berlin:20180131T203000
DTSTAMP:20191118T095911Z
URL:https://www.hiig.de/en/events/digitaler-salon-apps-anatomy/
SUMMARY:Digitaler Salon: App's Anatomy | Talk
DESCRIPTION:The doctors in the phone track our cycle or analyse the blood s
 ugar level. Have family physicians become obsolete and do digital tools tu
 rn us into hypochondriacs? On 31 January 2017 from 7 pm at HIIG. Digitaler
  Salon is taking place every last Wednesday of the month.
ATTACH;FMTTYPE=image/jpeg:https://www.hiig.de/wp-content/uploads/2017/12/b
 eitrag-janu.png
CATEGORIES:Talk series: Digitaler Salon
LOCATION:Humboldt Institute for Internet and Society\, Französische Straß
 e 9\, Berlin\, 10117\, Germany
X-APPLE-STRUCTURED-LOCATION;VALUE=URI;X-ADDRESS=Französische Straße 9\, B
 erlin\, 10117\, Germany;X-APPLE-RADIUS=100;X-TITLE=Humboldt Institute for 
 Internet and Society:geo:0,0
END:VEVENT
BEGIN:VTIMEZONE
TZID:Europe/Berlin
X-LIC-LOCATION:Europe/Berlin
BEGIN:STANDARD
DTSTART:20171029T020000
TZOFFSETFROM:+0200
TZOFFSETTO:+0100
TZNAME:CET
END:STANDARD
END:VTIMEZONE
END:VCALENDAR