BEGIN:VCALENDAR
VERSION:2.0
PRODID:-//wp-events-plugin.com//7.2.3.1//EN
TZID:Europe/Berlin
X-WR-TIMEZONE:Europe/Berlin
BEGIN:VEVENT
UID:1193@hiig.de
DTSTART;TZID=Europe/Berlin;VALUE=DATE:20240129
DTEND;TZID=Europe/Berlin;VALUE=DATE:20240131
DTSTAMP:20240129T085630Z
URL:https://www.hiig.de/en/events/conference-shifting-ai-controversies/
SUMMARY:Conference: Shifting AI Controversies
DESCRIPTION:This conference will be centered around prompts\, provocations 
 & problematisations for society-centered AI.
ATTACH;FMTTYPE=image/jpeg:https://www.hiig.de/wp-content/uploads/2023/10/S
 hifting-AI-Controversies-panorama-0481022531ecc8afe95c841f5e0fe84c-5ad590b
 0a9f95.png
LOCATION:WZB | Berlin Social Science Center \, Reichpietschufer 50\, Berlin
 \, 10785\, Germany
X-APPLE-STRUCTURED-LOCATION;VALUE=URI;X-ADDRESS=Reichpietschufer 50\, Berli
 n\, 10785\, Germany;X-APPLE-RADIUS=100;X-TITLE=WZB | Berlin Social Science
  Center :geo:0,0
END:VEVENT
BEGIN:VTIMEZONE
TZID:Europe/Berlin
X-LIC-LOCATION:Europe/Berlin
BEGIN:STANDARD
DTSTART:20231029T020000
TZOFFSETFROM:+0200
TZOFFSETTO:+0100
TZNAME:CET
END:STANDARD
END:VTIMEZONE
END:VCALENDAR