BEGIN:VCALENDAR
VERSION:2.0
PRODID:-//wp-events-plugin.com//7.2.3.1//EN
TZID:Europe/Berlin
X-WR-TIMEZONE:Europe/Berlin
BEGIN:VEVENT
UID:965@hiig.de
DTSTART;TZID=Europe/Berlin:20220207T103000
DTEND;TZID=Europe/Berlin:20220207T120000
DTSTAMP:20220201T085251Z
URL:https://www.hiig.de/en/events/closing-event-the-ethics-of-digitalisati
 on/
SUMMARY:Closing event for the project "The Ethics of Digitalisation"
DESCRIPTION:Closing event for the project "The Ethics of Digitalisation" wi
 th German President Frank-Walter Steinmeier.
ATTACH;FMTTYPE=image/jpeg:https://www.hiig.de/wp-content/uploads/2022/01/B
 P_Wasserzeichen-2.jpg
CATEGORIES:Issues in Focus
LOCATION:Livestream\, hiig.de\, Berlin\, Germany
X-APPLE-STRUCTURED-LOCATION;VALUE=URI;X-ADDRESS=hiig.de\, Berlin\, Germany;
 X-APPLE-RADIUS=100;X-TITLE=Livestream:geo:0,0
END:VEVENT
BEGIN:VTIMEZONE
TZID:Europe/Berlin
X-LIC-LOCATION:Europe/Berlin
BEGIN:STANDARD
DTSTART:20211031T020000
TZOFFSETFROM:+0200
TZOFFSETTO:+0100
TZNAME:CET
END:STANDARD
END:VTIMEZONE
END:VCALENDAR