BEGIN:VCALENDAR
VERSION:2.0
PRODID:-//wp-events-plugin.com//7.2.3.1//EN
TZID:Europe/Berlin
X-WR-TIMEZONE:Europe/Berlin
BEGIN:VEVENT
UID:160@hiig.de
DTSTART;TZID=Europe/Berlin;VALUE=DATE:20141119
DTEND;TZID=Europe/Berlin;VALUE=DATE:20141121
DTSTAMP:20140929T111826Z
URL:https://www.hiig.de/en/events/changing-the-picture-2014-2/
SUMMARY:CHANGING THE PICTURE 2014
DESCRIPTION:\nThe film and television industry is undergoing huge technolog
 ical change.\nFor decades\, the Industry has concentrated its efforts on k
 eeping analogue film and its carrier viable\, on preserving it\, and on re
 storing it.  With the advent of Digital film’\, the term ‘film’ has
  nothing to do with the carrier any more. It’s all about the work of the
  filmmakers\, as the intellectual and artistic expression they wish to con
 vey to the viewers – stored as ‘content’ within digital files. \n\n
 Along with new Production methods come fundamental changes of concept on e
 very level\; changes to the business model and impact on audience consumpt
 ion. How will we consume content in 2020? What will the Production tools l
 ook like then?\n\nCHANGING THE PICTURE is a technology conference on Nove
 mber 19 and 20 2014 aimed at broadcast industry executives\; producers\, p
 roduction managers\, sales and distribution companies and technology provi
 ders.\n\nThe cooperative research project dwerft – linked film &amp\; 
 tv services\, in which the HIIG is involved\, also offers a workshop to
  the conference. Together with Rotor Film and CineWrap current technologi
 es and latest results of research on the subject of Linked Produktion Wo
 rkflows will be presented.\n\n\n\nvisit event page\n\n\nprogram overwiev\
 n\n\n\nCosts\n\n\n\nearly bird ticket (up to october 10)\n95\,00 €\n\n\n
 standard ticket\n175\,00 €\n\n\n\nRegistration\nThe registration is poss
 ible at the events homepage.
ATTACH;FMTTYPE=image/jpeg:https://www.hiig.de/wp-content/uploads/2014/09/C
 OB-Logo-sw-4c.png
CATEGORIES:Issues in Focus
LOCATION:fx.Center Babelsberg\, August-Bebel-Straße 26\, Potsdam\, 14482\,
  Germany
X-APPLE-STRUCTURED-LOCATION;VALUE=URI;X-ADDRESS=August-Bebel-Straße 26\, P
 otsdam\, 14482\, Germany;X-APPLE-RADIUS=100;X-TITLE=fx.Center Babelsberg:g
 eo:0,0
END:VEVENT
BEGIN:VTIMEZONE
TZID:Europe/Berlin
X-LIC-LOCATION:Europe/Berlin
BEGIN:STANDARD
DTSTART:20141026T020000
TZOFFSETFROM:+0200
TZOFFSETTO:+0100
TZNAME:CET
END:STANDARD
END:VTIMEZONE
END:VCALENDAR