BEGIN:VCALENDAR
VERSION:2.0
PRODID:-//wp-events-plugin.com//7.2.3.1//EN
TZID:Europe/Berlin
X-WR-TIMEZONE:Europe/Berlin
BEGIN:VEVENT
UID:882@hiig.de
DTSTART;TZID=Europe/Berlin:20210324T000000
DTEND;TZID=Europe/Berlin:20210326T000000
DTSTAMP:20210318T155046Z
URL:https://www.hiig.de/en/events/cfp-the-first-annual-conference-of-the-p
 latform-governance-research-network/
SUMMARY:CfP: The First Annual Conference of the Platform Governance Researc
 h Network
DESCRIPTION:A three-day online conference seeking to bring together an inte
 rdisciplinary group of researchers who produce work on the topic of platfo
 rm governance.
ATTACH;FMTTYPE=image/jpeg:https://www.hiig.de/wp-content/uploads/2021/01/f
 ly-d-RpB9Y8bOqTY-unsplash-1-scaled.jpg
LOCATION:Zoom\, hiig.de\, Berlin\, Germany
X-APPLE-STRUCTURED-LOCATION;VALUE=URI;X-ADDRESS=hiig.de\, Berlin\, Germany;
 X-APPLE-RADIUS=100;X-TITLE=Zoom:geo:0,0
END:VEVENT
BEGIN:VTIMEZONE
TZID:Europe/Berlin
X-LIC-LOCATION:Europe/Berlin
BEGIN:STANDARD
DTSTART:20201025T020000
TZOFFSETFROM:+0200
TZOFFSETTO:+0100
TZNAME:CET
END:STANDARD
END:VTIMEZONE
END:VCALENDAR