BEGIN:VCALENDAR
VERSION:2.0
PRODID:-//wp-events-plugin.com//7.2.3.1//EN
TZID:Europe/Berlin
X-WR-TIMEZONE:Europe/Berlin
BEGIN:VEVENT
UID:455@hiig.de
DTSTART;TZID=Europe/Berlin:20170822T190000
DTEND;TZID=Europe/Berlin:20170822T210000
DTSTAMP:20170810T155823Z
URL:https://www.hiig.de/en/events/blockchainified-scientific-computations-
 living-knowledge-network/
SUMMARY:Blockchainified scientific computations & the living knowledge netw
 ork
DESCRIPTION:HIIG associated researcher PD Dr. Sönke Bartling is inviting t
 o discuss Blockchain &amp\; Open Science.\nBlockchainified scientific comp
 utations &amp\; the living knowledge network \n22.08.2017 | 19:00 | HIIG 
 | Französische Str. 9 | 10117 Berlin\nAfter an introduction about the to
 pic by Sönke Bartling\, a broad range of speakers will give further inp
 ut on various topics of the Blockchain &amp\; Open Science subject:\n\n 	D
 r. Christian Reitwiessner (Team Lead at Ethereum\, Creator of Solidity) on
  “Scalable Certified Computations” (Truebit.io)\,\n 	James Littlejohn
  (Living Knowledge Network) on the status of the Living Knowledge Networ
 k and\n 	Dr. Roman Gonitel (Redescience\, Living Knowledge Network) on 
 “Shared Ethos- Sheath- the Glue of a Collaborative Network: from the Gam
 e of Possession to the Game of Generosity”.\n\nFor more information of B
 lockchain for Science and Knowledge Creation see the living document o
 n 'Blockchain For Open Science and Knowledge Creation'.\n\nInterested? To 
 participate in this event\, please sign up for the meetup event here.
CATEGORIES:Issues in Focus
LOCATION:Humboldt Institute for Internet and Society\, Französische Straß
 e 9\, Berlin\, 10117\, Germany
X-APPLE-STRUCTURED-LOCATION;VALUE=URI;X-ADDRESS=Französische Straße 9\, B
 erlin\, 10117\, Germany;X-APPLE-RADIUS=100;X-TITLE=Humboldt Institute for 
 Internet and Society:geo:0,0
END:VEVENT
BEGIN:VTIMEZONE
TZID:Europe/Berlin
X-LIC-LOCATION:Europe/Berlin
BEGIN:DAYLIGHT
DTSTART:20170326T030000
TZOFFSETFROM:+0100
TZOFFSETTO:+0200
TZNAME:CEST
END:DAYLIGHT
END:VTIMEZONE
END:VCALENDAR