BEGIN:VCALENDAR
VERSION:2.0
PRODID:-//wp-events-plugin.com//7.2.3.1//EN
TZID:Europe/Berlin
X-WR-TIMEZONE:Europe/Berlin
BEGIN:VEVENT
UID:172@hiig.de
DTSTART;TZID=Europe/Berlin:20141022T190000
DTEND;TZID=Europe/Berlin:20141022T210000
DTSTAMP:20141024T131447Z
URL:https://www.hiig.de/en/events/berlin-open-access-week/
SUMMARY:Berlin Open Access Week: Generation Open
DESCRIPTION:In keeping with the theme of this year's Open Access Week of "G
 eneration Open"\, this Berlin event is for Earlier Career Researchers and 
 anyone else who is young at heart!
CATEGORIES:Netzwerken
LOCATION:Former office of the HIIG | Room E27\, Bebelplatz 1\, Berlin\, 101
 17\, Germany
X-APPLE-STRUCTURED-LOCATION;VALUE=URI;X-ADDRESS=Bebelplatz 1\, Berlin\, 101
 17\, Germany;X-APPLE-RADIUS=100;X-TITLE=Former office of the HIIG | Room E
 27:geo:0,0
END:VEVENT
BEGIN:VTIMEZONE
TZID:Europe/Berlin
X-LIC-LOCATION:Europe/Berlin
BEGIN:DAYLIGHT
DTSTART:20140330T030000
TZOFFSETFROM:+0100
TZOFFSETTO:+0200
TZNAME:CEST
END:DAYLIGHT
END:VTIMEZONE
END:VCALENDAR