BEGIN:VCALENDAR
VERSION:2.0
PRODID:-//wp-events-plugin.com//7.2.3.1//EN
TZID:Europe/Berlin
X-WR-TIMEZONE:Europe/Berlin
BEGIN:VEVENT
UID:50@hiig.de
DTSTART;TZID=Europe/Berlin:20130703T170000
DTEND;TZID=Europe/Berlin:20130703T180000
DTSTAMP:20140117T143234Z
URL:https://www.hiig.de/en/events/asdsad/
SUMMARY:Open Journal Club with Julian Oliver
DESCRIPTION:On the 3rd of July\, Julian Oliver will be a special guest at t
 he HIIG Journal Club.\n\nJulian Oliver is a Critical Engineer and artist. 
 His projects such as for example The Transparency Grande\, Border Bumping 
 or Newstweek(Golden Nica @Prix Ars Electronica 2011) offer a critical pers
 pective on the interactions between technology and society.\nOn Wednesday\
 , the 3rd of July\, Julian Oliver will present his projects in the context
  of Critical Engineering.\n\nThe Journal Club is a weekly event at the HII
 G where researchers discuss interesting publications. On Wednesday we open
  up our doors to a wider audience – you are welcome to join the discussi
 on!\n\nThe talk will be held in English.
CATEGORIES:Exploring Digital Spheres
LOCATION:Former office of the HIIG | Room E27\, Bebelplatz 1\, Berlin\, 101
 17\, Germany
X-APPLE-STRUCTURED-LOCATION;VALUE=URI;X-ADDRESS=Bebelplatz 1\, Berlin\, 101
 17\, Germany;X-APPLE-RADIUS=100;X-TITLE=Former office of the HIIG | Room E
 27:geo:0,0
END:VEVENT
BEGIN:VTIMEZONE
TZID:Europe/Berlin
X-LIC-LOCATION:Europe/Berlin
BEGIN:DAYLIGHT
DTSTART:20130331T030000
TZOFFSETFROM:+0100
TZOFFSETTO:+0200
TZNAME:CEST
END:DAYLIGHT
END:VTIMEZONE
END:VCALENDAR