BEGIN:VCALENDAR
VERSION:2.0
PRODID:-//wp-events-plugin.com//7.2.3.1//EN
TZID:Europe/Berlin
X-WR-TIMEZONE:Europe/Berlin
BEGIN:VEVENT
UID:1018@hiig.de
DTSTART;TZID=Europe/Berlin:20220902T153000
DTEND;TZID=Europe/Berlin:20220902T190000
DTSTAMP:20220819T094414Z
URL:https://www.hiig.de/en/events/artificial-thinking-explained-in-human-t
 erms/
SUMMARY:Workshop I Artificial thinking explained in human terms
DESCRIPTION:Within this workshop we will look at artificial thinking and ho
 w we can explain it in human terms.
ATTACH;FMTTYPE=image/jpeg:https://www.hiig.de/wp-content/uploads/2022/07/W
 ebsite_Banner_Call-for-Workshop-Collaboration_Berlin_Nemetschek-Stiftung.p
 ng
LOCATION:Humboldt Institute for Internet and Society\, Französische Straß
 e 9\, Berlin\, 10117\, Germany
X-APPLE-STRUCTURED-LOCATION;VALUE=URI;X-ADDRESS=Französische Straße 9\, B
 erlin\, 10117\, Germany;X-APPLE-RADIUS=100;X-TITLE=Humboldt Institute for 
 Internet and Society:geo:0,0
END:VEVENT
BEGIN:VTIMEZONE
TZID:Europe/Berlin
X-LIC-LOCATION:Europe/Berlin
BEGIN:DAYLIGHT
DTSTART:20220327T030000
TZOFFSETFROM:+0100
TZOFFSETTO:+0200
TZNAME:CEST
END:DAYLIGHT
END:VTIMEZONE
END:VCALENDAR