BEGIN:VCALENDAR
VERSION:2.0
PRODID:-//wp-events-plugin.com//7.2.3.1//EN
TZID:Europe/Berlin
X-WR-TIMEZONE:Europe/Berlin
BEGIN:VEVENT
UID:716@hiig.de
DTSTART;TZID=Europe/Berlin:20190828T183000
DTEND;TZID=Europe/Berlin:20190828T220000
DTSTAMP:20191022T124646Z
URL:https://www.hiig.de/en/events/armin-nassehi-digital-society/
SUMMARY:Armin Nassehi: What problem does digitalisation solve?
DESCRIPTION:Digital technology has revolutionised the world in just a few y
 ears: our relationships\, our work and even the results of elections – e
 verything seems to follow completely different rules. For sociologist Armi
 n Nassehi\, a certain technology is only successful if it solves a fundame
 ntal problem. So if digitalisation succeeds in unfolding its potential for
  change\, the question is: What problem does digitisation solve? Among oth
 er things\, the answer will point out that modern society can be called "d
 igital" in a peculiar way even before the advance of computer technology.\
 n\n&nbsp\;\n\n\nArmin Nassehi: What problem does digitalisation solve?\n28
  August 2019 | 7 pm | doors open 6.30 pm\nSäälchen am Holzmarkt | An der
  Urania 17 | 10787 Berlin\n&nbsp\;\n\nArmin Nassehi is Professor of Sociol
 ogy at LMU Munich\; he researches and teaches in the areas of sociology of
  culture\, political sociology\, sociology of religion as well as sociolog
 y of knowledge and science. His sociology is mainly based on Niklas Luhman
 n's systems theory. Nassehi's next book “Muster. Theorie der digitalen G
 esellschaft” will be published at the end of August.\nAgenda\n\n\n\n18:3
 0\n  Doors open\n\n\n19:00 – 19:15\n  Welcome and introduction\n\n\n19
 :15 – 20:00\n  What problem does digitalisation solve?\n  Armin Nasseh
 i (LMU Munich)\n\n\n20:00 – 21:00\n  Moderated discussion and questions
  from the audience\n\n\n\n21:00 – 22:00\n  Get-together\n\n\n\n&nbsp\;\
 n\nThe event will be held in German and simultaneously translated into Eng
 lish.\n\nFor press accreditation\, please contact Christian Grauvogel.\n\
 nThis event will be recorded and broadcasted live. By signing up you conse
 nt to be photographed\, filmed and/or otherwise recorded during the event 
 and to the use of the content in connection with the promotion and public 
 relations of the event.\n\n&nbsp\;\nMaking Sense of the Digital Society\n\
 n\nThe current rapid pace of technological change creates enormous uncerta
 inties - and thus the need for explanations that help us better understand
  our situation and shape the future. The Alexander von Humboldt Institute 
 for Internet and Society (HIIG) and the Federal Agency for Civic Education
  (bpb) are therefore continuing the Lecture Series Making Sense of the Di
 gital Society that was launched in 2017. The aim of the format is to deve
 lop a European perspective on the current processes of transformation and 
 its societal impact. The first speaker of this year's series was sociologi
 st Eva Illouz\, followed by Dirk Baecker\, José van Dijck and Louise Amo
 ore.\n&nbsp\;\n\n\n\n&nbsp\;\nRegistration\nThe lecture is fully booked. S
 ign up for our newsletter and be the first to receive an invitation for fu
 ture events.\n\n
ATTACH;FMTTYPE=image/jpeg:https://www.hiig.de/wp-content/uploads/2019/07/A
 rmin-Nassehi-70.png
CATEGORIES:Making sense of the digital society
LOCATION:Säälchen - Holzmarkt\, Holzmarktstraße 25\, Berlin\, 10243\, Ge
 rmany
X-APPLE-STRUCTURED-LOCATION;VALUE=URI;X-ADDRESS=Holzmarktstraße 25\, Berli
 n\, 10243\, Germany;X-APPLE-RADIUS=100;X-TITLE=Säälchen - Holzmarkt:geo:
 0,0
END:VEVENT
BEGIN:VTIMEZONE
TZID:Europe/Berlin
X-LIC-LOCATION:Europe/Berlin
BEGIN:DAYLIGHT
DTSTART:20190331T030000
TZOFFSETFROM:+0100
TZOFFSETTO:+0200
TZNAME:CEST
END:DAYLIGHT
END:VTIMEZONE
END:VCALENDAR