BEGIN:VCALENDAR
VERSION:2.0
PRODID:-//wp-events-plugin.com//7.2.3.1//EN
TZID:Europe/Berlin
X-WR-TIMEZONE:Europe/Berlin
BEGIN:VEVENT
UID:617@hiig.de
DTSTART;TZID=Europe/Berlin:20180913T130000
DTEND;TZID=Europe/Berlin:20180913T140000
DTSTAMP:20180910T165807Z
URL:https://www.hiig.de/en/events/approaching-datafication-from-the-perspe
 ctive-of-social-justice-lunch-talk/
SUMMARY:Approaching datafication from the perspective of social justice
DESCRIPTION:The Data Justice Project will advance a research framework for 
 studying datafication that is rooted in a broader concern for social justi
 ce.
ATTACH;FMTTYPE=image/jpeg:https://www.hiig.de/wp-content/uploads/2018/05/l
 unch-talk.jpg
CATEGORIES:Exploring Digital Spheres
LOCATION:Humboldt Institute for Internet and Society\, Französische Straß
 e 9\, Berlin\, 10117\, Germany
X-APPLE-STRUCTURED-LOCATION;VALUE=URI;X-ADDRESS=Französische Straße 9\, B
 erlin\, 10117\, Germany;X-APPLE-RADIUS=100;X-TITLE=Humboldt Institute for 
 Internet and Society:geo:0,0
END:VEVENT
BEGIN:VTIMEZONE
TZID:Europe/Berlin
X-LIC-LOCATION:Europe/Berlin
BEGIN:DAYLIGHT
DTSTART:20180325T030000
TZOFFSETFROM:+0100
TZOFFSETTO:+0200
TZNAME:CEST
END:DAYLIGHT
END:VTIMEZONE
END:VCALENDAR