BEGIN:VCALENDAR
VERSION:2.0
PRODID:-//wp-events-plugin.com//7.2.3.1//EN
TZID:Europe/Berlin
X-WR-TIMEZONE:Europe/Berlin
BEGIN:VEVENT
UID:563@hiig.de
DTSTART;TZID=Europe/Berlin:20180516T130000
DTEND;TZID=Europe/Berlin:20180516T140000
DTSTAMP:20180523T155204Z
URL:https://www.hiig.de/en/events/algorithmic-imaginaries-lunch-talk-with-
 astrid-mager/
SUMMARY:Algorithmic Imaginaries - Lunch talk with Astrid Mager
DESCRIPTION:Astrid Mager\, guest researcher at HIIG\, deals with the questi
 on which role norms\, values and ideologies play in the development of sea
 rch engines.
ATTACH;FMTTYPE=image/jpeg:https://www.hiig.de/wp-content/uploads/2018/05/b
 ag-bags-brown-21436-Cropped.jpg
LOCATION:Humboldt Institute for Internet and Society\, Französische Straß
 e 9\, Berlin\, 10117\, Germany
X-APPLE-STRUCTURED-LOCATION;VALUE=URI;X-ADDRESS=Französische Straße 9\, B
 erlin\, 10117\, Germany;X-APPLE-RADIUS=100;X-TITLE=Humboldt Institute for 
 Internet and Society:geo:0,0
END:VEVENT
BEGIN:VTIMEZONE
TZID:Europe/Berlin
X-LIC-LOCATION:Europe/Berlin
BEGIN:DAYLIGHT
DTSTART:20180325T030000
TZOFFSETFROM:+0100
TZOFFSETTO:+0200
TZNAME:CEST
END:DAYLIGHT
END:VTIMEZONE
END:VCALENDAR