BEGIN:VCALENDAR
VERSION:2.0
PRODID:-//wp-events-plugin.com//7.2.3.1//EN
TZID:Europe/Berlin
X-WR-TIMEZONE:Europe/Berlin
BEGIN:VEVENT
UID:1127@hiig.de
DTSTART;TZID=Europe/Berlin:20230627T150000
DTEND;TZID=Europe/Berlin:20230627T163000
DTSTAMP:20230525T130136Z
URL:https://www.hiig.de/en/events/advice-from-the-advisory-board-potential
 -of-social-media-councils/
SUMMARY:Advice from the advisory board: Potential of social media councils
DESCRIPTION:How do we keep the balance between social change and structural
  institutionalisation? How should platform councils be staffed? What crite
 ria of diversity and expertise should underlie their composition?
ATTACH;FMTTYPE=image/jpeg:https://www.hiig.de/wp-content/uploads/2023/05/D
 eep-Dive-Bertelsmann-3.png
LOCATION:Online\, HIIG\, Berlin\, Germany
X-APPLE-STRUCTURED-LOCATION;VALUE=URI;X-ADDRESS=HIIG\, Berlin\, Germany;X-A
 PPLE-RADIUS=100;X-TITLE=Online:geo:0,0
END:VEVENT
BEGIN:VTIMEZONE
TZID:Europe/Berlin
X-LIC-LOCATION:Europe/Berlin
BEGIN:DAYLIGHT
DTSTART:20230326T030000
TZOFFSETFROM:+0100
TZOFFSETTO:+0200
TZNAME:CEST
END:DAYLIGHT
END:VTIMEZONE
END:VCALENDAR