BEGIN:VCALENDAR
VERSION:2.0
PRODID:-//wp-events-plugin.com//7.2.3.1//EN
TZID:Europe/Berlin
X-WR-TIMEZONE:Europe/Berlin
BEGIN:VEVENT
UID:224@hiig.de
DTSTART;TZID=Europe/Berlin;VALUE=DATE:20150325
DTEND;TZID=Europe/Berlin;VALUE=DATE:20150327
DTSTAMP:20150324T170555Z
URL:https://www.hiig.de/en/events/22426/
SUMMARY:Science 2.0 Conference
DESCRIPTION:\n\nThe 2nd International Science 2.0 Conference will take pla
 ce from March 25 to 26\, 2015 in Hamburg. The day before\, on March 24\, 
 a Barcamp Science 2.0 will be held in conjunction with the conference. Ch
 air of the conference is Professor Klaus Tochtermann\, director of ZBW –
  Leibniz Information Centre for Economics and speaker of the Leibniz Resea
 rch Alliance Science 2.0. Benedikt Fecher will represent the HIIG at the c
 onference with a lightning talk on "Data sharing in academia. Results from
  an empirical survey among researchers in Germany".\n\nThis year’s confe
 rence aims to discuss Science 2.0 in the context of related and already es
 tablished topics\, such as Citizen Science\, Open Access or Big Data Analy
 sis.\n\n__\n\nThe HIIG is one of 37 partners of the Leibniz Research Allia
 nce Science 2.0. The transdisciplinary Research Alliance is incorporated 
 in the Leibniz Association and examines the effects of Science 2.0 on scie
 ntific research and society. “New working habits”\, “technological d
 evelopment” and “user behaviour research” are at the centre of these
  research efforts.\n\n&nbsp\;\n\n&nbsp\;
CATEGORIES:Issues in Focus
LOCATION:Empire Riverside Hotel\, Hamburg\, Bernhard-Nocht-Straße 97\, Ham
 burg\, 20359\, Germany
X-APPLE-STRUCTURED-LOCATION;VALUE=URI;X-ADDRESS=Bernhard-Nocht-Straße 97\,
  Hamburg\, 20359\, Germany;X-APPLE-RADIUS=100;X-TITLE=Empire Riverside Hot
 el\, Hamburg:geo:0,0
END:VEVENT
BEGIN:VTIMEZONE
TZID:Europe/Berlin
X-LIC-LOCATION:Europe/Berlin
BEGIN:STANDARD
DTSTART:20141026T020000
TZOFFSETFROM:+0200
TZOFFSETTO:+0100
TZNAME:CET
END:STANDARD
END:VTIMEZONE
END:VCALENDAR